BEGIN:VCALENDAR
VERSION:2.0
PRODID:-//Puijon Mahti - ECPv6.15.18//NONSGML v1.0//EN
CALSCALE:GREGORIAN
METHOD:PUBLISH
X-WR-CALNAME:Puijon Mahti
X-ORIGINAL-URL:https://www.puijonmahti.fi
X-WR-CALDESC:Tapahtumat Puijon Mahti
REFRESH-INTERVAL;VALUE=DURATION:PT1H
X-Robots-Tag:noindex
X-PUBLISHED-TTL:PT1H
BEGIN:VTIMEZONE
TZID:Europe/Helsinki
BEGIN:DAYLIGHT
TZOFFSETFROM:+0200
TZOFFSETTO:+0300
TZNAME:EEST
DTSTART:20230326T010000
END:DAYLIGHT
BEGIN:STANDARD
TZOFFSETFROM:+0300
TZOFFSETTO:+0200
TZNAME:EET
DTSTART:20231029T010000
END:STANDARD
BEGIN:DAYLIGHT
TZOFFSETFROM:+0200
TZOFFSETTO:+0300
TZNAME:EEST
DTSTART:20240331T010000
END:DAYLIGHT
BEGIN:STANDARD
TZOFFSETFROM:+0300
TZOFFSETTO:+0200
TZNAME:EET
DTSTART:20241027T010000
END:STANDARD
BEGIN:DAYLIGHT
TZOFFSETFROM:+0200
TZOFFSETTO:+0300
TZNAME:EEST
DTSTART:20250330T010000
END:DAYLIGHT
BEGIN:STANDARD
TZOFFSETFROM:+0300
TZOFFSETTO:+0200
TZNAME:EET
DTSTART:20251026T010000
END:STANDARD
END:VTIMEZONE
BEGIN:VEVENT
DTSTART;TZID=Europe/Helsinki:20240919T180000
DTEND;TZID=Europe/Helsinki:20240919T191500
DTSTAMP:20260424T092803
CREATED:20240407T175416Z
LAST-MODIFIED:20240909T174733Z
UID:2031-1726768800-1726773300@www.puijonmahti.fi
SUMMARY:Teho Torstai
DESCRIPTION:Huuhan kuntolenkki\, Ruotsinkatu 35 eli Minna Canthin koulu. Kolme 3\,5km kierrosta: kevyt\, nopea ja kevyt. Alusta on soraa\, ei polkua. Pitkä ylämäki\, sitten pitkä alamäki. Ohjaajana Samu
URL:https://www.puijonmahti.fi/event/teho-torstai-20/
CATEGORIES:Teho Torstai
END:VEVENT
END:VCALENDAR